Workbook

Sheet Bordereau
A1: PROPOSITION PR2604-1137 — BORDEREAU DÉTAILLÉ
A2: CH-SOBRAGUI-SANOYA Vestiaire F / Infirmerie — Numéro DA 4094
A4: Désignation | B4: TVA | C4: P.U. HT | D4: Qté | E4: Unité | F4: Total HT | G4: Observations
A5: 1 TRAVAUX PRÉPARATOIRES
A6: Installation et approvisionnement des travaux | B6: 0.18 | C6: 16580000 | D6: 1 | E6: ens | F6: =C6*D6 -> 16580000
A7: Nettoyage continu du chantier | B7: 0.18 | C7: 8500000 | D7: 1 | E7: ens | F7: =C7*D7 -> 8500000
A8: Repli du chantier | B8: 0.18 | C8: 4500000 | D8: 1 | E8: u. | F8: =C8*D8 -> 4500000
A9: Sous-total 1 TRAVAUX PRÉPARATOIRES | F9: =SUM(F6:F8) -> 29580000
A10: 2 DÉPOSE ET DÉMOLITIONS
A11: Dépose des portes et fenêtres existant | B11: 0.18 | C11: 4800000 | D11: 1 | E11: ens | F11: =C11*D11 -> 4800000
A12: Dépose des sanitaires et accessoires existants | B12: 0.18 | C12: 2560000 | D12: 1 | E12: ens | F12: =C12*D12 -> 2560000
A13: Evacuations complète | B13: 0.18 | C13: 4500000 | D13: 1 | E13: fft | F13: =C13*D13 -> 4500000
A14: Démolition des murs concernés | B14: 0.18 | C14: 250000 | D14: 50 | E14: m² | F14: =C14*D14 -> 12500000
A15: Ouvertures pour les nouvelles portes et fenêtres | B15: 0.18 | C15: 350000 | D15: 36.5 | E15: m² | F15: =C15*D15 -> 12775000
A16: Décapage de l'ancien chape du toit | B16: 0.18 | C16: 350000 | D16: 32.1 | E16: m³ | F16: =C16*D16 -> 11235000
A17: Décapage de carreaux sol existant et faïences | B17: 0.18 | C17: 150000 | D17: 164.23 | E17: m² | F17: =C17*D17 -> 24634500
A18: Evacuations complète des gravats vers une décharge publique | B18: 0.18 | C18: 150000 | D18: 282.83 | E18: u. | F18: =C18*D18 -> 42424500
A19: Sous-total 2 DÉPOSE ET DÉMOLITIONS | F19: =SUM(F11:F18) -> 115429000
A20: 3 ÉLÉVATION
A21: Linteaux en Béton armé dosé à 350 kg/m3 y/c coffrage et armatures | B21: 0.18 | C21: 5800000 | D21: 6.54 | E21: m³ | F21: =C21*D21 -> 37932000
A22: Murs en agglos creux de 15cm | B22: 0.18 | C22: 350000 | D22: 151.18 | E22: m² | F22: =C22*D22 -> 52913000
A23: Pose des claustra | B23: 0.18 | C23: 650000 | D23: 41 | E23: m² | F23: =C23*D23 -> 26650000
A24: Pose de mortier pour jointer les claustras | B24: 0.18 | C24: 65000 | D24: 46.5 | E24: m² | F24: =C24*D24 -> 3022500
A25: Crépissage ciment sur murs intérieurs | B25: 0.18 | C25: 65000 | D25: 351.9 | E25: m² | F25: =C25*D25 -> 22873500
A26: Crépissage ciment sur murs extérieurs | B26: 0.18 | C26: 25000000 | D26: 1 | E26: fft | F26: =C26*D26 -> 25000000
A27: Crépissage ciment sous dalle extérieure | B27: 0.18 | C27: 65000 | D27: 66.58 | E27: m² | F27: =C27*D27 -> 4327700
A28: Réalisation de chappe dosé à 200kg/m3 sur l'ensemble du toit avec pente neccessaire | B28: 0.18 | C28: 250000 | D28: 263.04 | E28: m² | F28: =C28*D28 -> 65760000
A29: Toiture - Acrotère en agglos creux de 15 cm | B29: 0.18 | C29: 295000 | D29: 45 | E29: m² | F29: =C29*D29 -> 13275000
A30: Chainage en b.a dosé à 350 kg/m3 y/c coffrage et armature | B30: 0.18 | C30: 4200000 | D30: 5.86 | E30: m³ | F30: =C30*D30 -> 24612000
A31: Crépissage ciment sur acrotère intérieurs et extérieurs | B31: 0.18 | C31: 65000 | D31: 78.17 | E31: m² | F31: =C31*D31 -> 5081050
A32: Sous-total 3 ÉLÉVATION | F32: =SUM(F21:F31) -> 281446750
A33: 4 FAUX PLAFOND ET REVÊTEMENT
A34: Faux plafond en dalle 600/600 | B34: 0.18 | C34: 445000 | D34: 147.9 | E34: m² | F34: =C34*D34 -> 65815500
A35: Contre cloison en placo BA13 | B35: 0.18 | C35: 880000 | D35: 150 | E35: m² | F35: =C35*D35 -> 132000000
A36: REVETEMENT (UNIQUEMENT LA MAIN D'ŒUVRE)
A37: Carreaux sol grès cérame | B37: 0.18 | C37: 50000 | D37: 82.36 | E37: m² | F37: =C37*D37 -> 4118000
A38: Carreaux sol grès cérame antidérapants | B38: 0.18 | C38: 50000 | D38: 59.84 | E38: m² | F38: =C38*D38 -> 2992000
A39: Carreaux sol escalier | B39: 0.18 | C39: 50000 | D39: 6.78 | E39: m² | F39: =C39*D39 -> 339000
A40: Carreaux faïence | B40: 0.18 | C40: 50000 | D40: 234.36 | E40: m² | F40: =C40*D40 -> 11718000
A41: Plinthes en grès cérame | B41: 0.18 | C41: 45000 | D41: 65.24 | E41: m² | F41: =C41*D41 -> 2935800
...

Sheet Récapitulatif
A1: RÉCAPITULATIF PAR CHAPITRE
A3: N° | B3: Chapitre | C3: Total HT | D3: Part du total
A4: 1 | B4: 1 TRAVAUX PRÉPARATOIRES | C4: =Bordereau!F9 -> 29580000 | D4: =C4/SUM(C$4:C$25) -> 0.012484521
A5: 2 | B5: 2 DÉPOSE ET DÉMOLITIONS | C5: =Bordereau!F19 -> 115429000 | D5: =C5/SUM(C$4:C$25) -> 0.048717912
A6: 3 | B6: 3 ÉLÉVATION | C6: =Bordereau!F32 -> 281446750 | D6: =C6/SUM(C$4:C$25) -> 0.11878729
A7: 4 | B7: 4 FAUX PLAFOND ET REVÊTEMENT | C7: =Bordereau!F44 -> 462418250 | D7: =C7/SUM(C$4:C$25) -> 0.19516804
A8: 5 | B8: 5 ETANCHEITE | C8: =Bordereau!F48 -> 108115000 | D8: =C8/SUM(C$4:C$25) -> 0.045630968
A9: 6 | B9: 6 MENUISERIE MÉTALLIQUE | C9: =Bordereau!F51 -> 6300000 | D9: =C9/SUM(C$4:C$25) -> 0.0026589752
A10: 7 | B10: 7 MENUISERIE BOIS | C10: =Bordereau!F55 -> 28500000 | D10: =C10/SUM(C$4:C$25) -> 0.012028697
A11: 8 | B11: 8 MENUISERIE ALU VITRÉE | C11: =Bordereau!F61 -> 87986800 | D11: =C11/SUM(C$4:C$25) -> 0.037135669
A12: 9 | B12: 9 ELECTRICITÉ /COURANT FAIBLE | C12: =Bordereau!F83 -> 455286000 | D12: =C12/SUM(C$4:C$25) -> 0.1921578
A13: 10 | B13: 10 CLIMATISATION | C13: =Bordereau!F87 -> 66000000 | D13: =C13/SUM(C$4:C$25) -> 0.02785593
A14: 11 | B14: 11 PLOMBERIE - SANITAIRE | C14: =Bordereau!F96 -> 40795000 | D14: =C14/SUM(C$4:C$25) -> 0.017217919
A15: 12 | B15: 12 PEINTURE | C15: =Bordereau!F104 -> 74609600 | D15: =C15/SUM(C$4:C$25) -> 0.031489694
A16: 13 | B16: 13 AMÉNAGEMENT EXTÉRIEUR | C16: =Bordereau!F108 -> 66828000 | D16: =C16/SUM(C$4:C$25) -> 0.028205396
A17: 14 | B17: 14 1er ÉTAGE ÉLÉVATION : | C17: =Bordereau!F118 -> 89206300 | D17: =C17/SUM(C$4:C$25) -> 0.037650371
A18: 15 | B18: 15 FAUX PLAFOND ET REVÊTEMENT | C18: =Bordereau!F122 -> 197815500 | D18: =C18/SUM(C$4:C$25) -> 0.083489921
A19: 16 | B19: 16 REVETEMENT (UNIQUEMENT LA MAIN D'ŒUVRE) | C19: =Bordereau!F130 -> 33189300 | D19: =C19/SUM(C$4:C$25) -> 0.014007861
A20: 17 | B20: 17 ETANCHEITE | C20: =Bordereau!F133 -> 0 | D20: =C20/SUM(C$4:C$25) -> 0
A21: 18 | B21: 18 MENUISERIE MÉTALLIQUE | C21: =Bordereau!F136 -> 6300000 | D21: =C21/SUM(C$4:C$25) -> 0.0026589752
A22: 19 | B22: 19 MENUISERIE BOIS | C22: =Bordereau!F140 -> 6500000 | D22: =C22/SUM(C$4:C$25) -> 0.0027433871
A23: 20 | B23: 20 MENUISERIE ALU VITRÉE | C23: =Bordereau!F145 -> 164878500 | D23: =C23/SUM(C$4:C$25) -> 0.069588546
A24: 21 | B24: 21 PLOMBERIE - SANITAIRE | C24: =Bordereau!F153 -> 3996300 | D24: =C24/SUM(C$4:C$25) -> 0.0016866766
A25: 22 | B25: 22 PEINTURE | C25: =Bordereau!F161 -> 44153600 | D25: =C25/SUM(C$4:C$25) -> 0.018635449
B27: TOTAL HT | C27: =SUM(C4:C25) -> 2369333900
B28: TVA 18% | C28: =C27*18% -> 426480102
B29: TOTAL TTC | C29: =C27+C28 -> 2795814002

Sheet Infos devis
A1: Proposition | B1: PR2604-1137
A2: Réf. client | B2: CH-SOBRAGUI-SANOYA Vestiaire F / Infir.N°4094
A3: Date de proposition | B3: 46139
A4: Date de fin de validité | B4: 46169
A5: Code client | B5: CU2412-00218
A6: Émetteur | B6: MT-Solutions
A7: Adresse émetteur | B7: Quartier Coleah - Secteur Terrasse Rue M.A.004 - CONAKRY
A8: Téléphone | B8: 00244623646455
A9: Email | B9: callcenter@mt-solutions.africa
A10: Web | B10: www.mt-solutions.africa
A11: Client | B11: SOBRAGUI SA
A12: Adresse client | B12: Siège social: Route du Niger, Km 7 - Madina Marché - Matam - BP 345 - Conakry - Guinée
A13: Objet | B13: CH-SOBRAGUI-SANOYA Vestiaire F / Infirmerie
A14: Numéro DA | B14: 4094
A15: Devise | B15: GNF
A16: Source | B16: PDF utilisateur PR2604-1137.pdf
